BEGIN:VCALENDAR
VERSION:2.0
PRODID:-//Lewis River Golf Course - ECPv6.15.18//NONSGML v1.0//EN
CALSCALE:GREGORIAN
METHOD:PUBLISH
X-WR-CALNAME:Lewis River Golf Course
X-ORIGINAL-URL:https://www.lewisrivergolf.com
X-WR-CALDESC:Events for Lewis River Golf Course
REFRESH-INTERVAL;VALUE=DURATION:PT1H
X-Robots-Tag:noindex
X-PUBLISHED-TTL:PT1H
BEGIN:VTIMEZONE
TZID:UTC
BEGIN:STANDARD
TZOFFSETFROM:+0000
TZOFFSETTO:+0000
TZNAME:UTC
DTSTART:20250101T000000
END:STANDARD
END:VTIMEZONE
BEGIN:VEVENT
DTSTART;VALUE=DATE:20261002
DTEND;VALUE=DATE:20261003
DTSTAMP:20260420T233855
CREATED:20260420T171839Z
LAST-MODIFIED:20260420T171839Z
UID:10002283-1790899200-1790985599@www.lewisrivergolf.com
SUMMARY:Temco Shotgun Tournament
DESCRIPTION:
URL:https://www.lewisrivergolf.com/event/temco-shotgun-tournament/
END:VEVENT
BEGIN:VEVENT
DTSTART;TZID=UTC:20261001T180000
DTEND;TZID=UTC:20261001T200000
DTSTAMP:20260420T233855
CREATED:20240301T205821Z
LAST-MODIFIED:20250410T144609Z
UID:10001075-1790877600-1790884800@www.lewisrivergolf.com
SUMMARY:Thursday Night Live Music
DESCRIPTION:  \nFollow us on Facebook for monthly artist line up!
URL:https://www.lewisrivergolf.com/event/live-music-thursdays/2026-10-01/
LOCATION:Lewis River Golf\, 3209 Old Lewis River Road\, Woodland\, WA\, 98674\, United States
END:VEVENT
BEGIN:VEVENT
DTSTART;VALUE=DATE:20260926
DTEND;VALUE=DATE:20260928
DTSTAMP:20260420T233855
CREATED:20260120T215817Z
LAST-MODIFIED:20260204T181303Z
UID:10002034-1790380800-1790553599@www.lewisrivergolf.com
SUMMARY:Prime Rib Special: Saturday & Sunday
DESCRIPTION:Prime Rib Saturdays & Sundays at The North Fork Grill at Lewis River Golf!
URL:https://www.lewisrivergolf.com/event/prime-rib-sunday-2-2/2026-09-26/
END:VEVENT
BEGIN:VEVENT
DTSTART;TZID=UTC:20260924T180000
DTEND;TZID=UTC:20260924T200000
DTSTAMP:20260420T233855
CREATED:20240301T205821Z
LAST-MODIFIED:20250410T144609Z
UID:10001074-1790272800-1790280000@www.lewisrivergolf.com
SUMMARY:Thursday Night Live Music
DESCRIPTION:  \nFollow us on Facebook for monthly artist line up!
URL:https://www.lewisrivergolf.com/event/live-music-thursdays/2026-09-24/
LOCATION:Lewis River Golf\, 3209 Old Lewis River Road\, Woodland\, WA\, 98674\, United States
END:VEVENT
BEGIN:VEVENT
DTSTART;VALUE=DATE:20260919
DTEND;VALUE=DATE:20260921
DTSTAMP:20260420T233855
CREATED:20260120T215817Z
LAST-MODIFIED:20260204T181303Z
UID:10002033-1789776000-1789948799@www.lewisrivergolf.com
SUMMARY:Prime Rib Special: Saturday & Sunday
DESCRIPTION:Prime Rib Saturdays & Sundays at The North Fork Grill at Lewis River Golf!
URL:https://www.lewisrivergolf.com/event/prime-rib-sunday-2-2/2026-09-19/
END:VEVENT
BEGIN:VEVENT
DTSTART;VALUE=DATE:20260918
DTEND;VALUE=DATE:20260921
DTSTAMP:20260420T233855
CREATED:20260420T172026Z
LAST-MODIFIED:20260420T172026Z
UID:10002285-1789689600-1789948799@www.lewisrivergolf.com
SUMMARY:2026 Realms Unknown Festival
DESCRIPTION:
URL:https://www.lewisrivergolf.com/event/2026-realms-unknown-festival/
END:VEVENT
BEGIN:VEVENT
DTSTART;TZID=UTC:20260917T180000
DTEND;TZID=UTC:20260917T200000
DTSTAMP:20260420T233855
CREATED:20240301T205821Z
LAST-MODIFIED:20250410T144609Z
UID:10001073-1789668000-1789675200@www.lewisrivergolf.com
SUMMARY:Thursday Night Live Music
DESCRIPTION:  \nFollow us on Facebook for monthly artist line up!
URL:https://www.lewisrivergolf.com/event/live-music-thursdays/2026-09-17/
LOCATION:Lewis River Golf\, 3209 Old Lewis River Road\, Woodland\, WA\, 98674\, United States
END:VEVENT
BEGIN:VEVENT
DTSTART;VALUE=DATE:20260914
DTEND;VALUE=DATE:20260924
DTSTAMP:20260420T233855
CREATED:20260420T171916Z
LAST-MODIFIED:20260420T171929Z
UID:10002284-1789344000-1790207999@www.lewisrivergolf.com
SUMMARY:Realms - Full Course Closure
DESCRIPTION:
URL:https://www.lewisrivergolf.com/event/realms-full-course-closure/
END:VEVENT
BEGIN:VEVENT
DTSTART;VALUE=DATE:20260912
DTEND;VALUE=DATE:20260914
DTSTAMP:20260420T233855
CREATED:20260120T215817Z
LAST-MODIFIED:20260204T181303Z
UID:10002032-1789171200-1789343999@www.lewisrivergolf.com
SUMMARY:Prime Rib Special: Saturday & Sunday
DESCRIPTION:Prime Rib Saturdays & Sundays at The North Fork Grill at Lewis River Golf!
URL:https://www.lewisrivergolf.com/event/prime-rib-sunday-2-2/2026-09-12/
END:VEVENT
BEGIN:VEVENT
DTSTART;VALUE=DATE:20260911
DTEND;VALUE=DATE:20260912
DTSTAMP:20260420T233855
CREATED:20260420T171806Z
LAST-MODIFIED:20260420T171806Z
UID:10002282-1789084800-1789171199@www.lewisrivergolf.com
SUMMARY:LC AWWA Shotgun Tournament
DESCRIPTION:
URL:https://www.lewisrivergolf.com/event/lc-awwa-shotgun-tournament/
END:VEVENT
BEGIN:VEVENT
DTSTART;TZID=UTC:20260910T180000
DTEND;TZID=UTC:20260910T200000
DTSTAMP:20260420T233855
CREATED:20240301T205821Z
LAST-MODIFIED:20250410T144609Z
UID:10001072-1789063200-1789070400@www.lewisrivergolf.com
SUMMARY:Thursday Night Live Music
DESCRIPTION:  \nFollow us on Facebook for monthly artist line up!
URL:https://www.lewisrivergolf.com/event/live-music-thursdays/2026-09-10/
LOCATION:Lewis River Golf\, 3209 Old Lewis River Road\, Woodland\, WA\, 98674\, United States
END:VEVENT
BEGIN:VEVENT
DTSTART;VALUE=DATE:20260905
DTEND;VALUE=DATE:20260907
DTSTAMP:20260420T233855
CREATED:20260120T215817Z
LAST-MODIFIED:20260204T181303Z
UID:10002031-1788566400-1788739199@www.lewisrivergolf.com
SUMMARY:Prime Rib Special: Saturday & Sunday
DESCRIPTION:Prime Rib Saturdays & Sundays at The North Fork Grill at Lewis River Golf!
URL:https://www.lewisrivergolf.com/event/prime-rib-sunday-2-2/2026-09-05/
END:VEVENT
BEGIN:VEVENT
DTSTART;TZID=UTC:20260903T180000
DTEND;TZID=UTC:20260903T200000
DTSTAMP:20260420T233855
CREATED:20240301T205821Z
LAST-MODIFIED:20250410T144609Z
UID:10001071-1788458400-1788465600@www.lewisrivergolf.com
SUMMARY:Thursday Night Live Music
DESCRIPTION:  \nFollow us on Facebook for monthly artist line up!
URL:https://www.lewisrivergolf.com/event/live-music-thursdays/2026-09-03/
LOCATION:Lewis River Golf\, 3209 Old Lewis River Road\, Woodland\, WA\, 98674\, United States
END:VEVENT
BEGIN:VEVENT
DTSTART;VALUE=DATE:20260829
DTEND;VALUE=DATE:20260831
DTSTAMP:20260420T233855
CREATED:20260120T215817Z
LAST-MODIFIED:20260204T181303Z
UID:10002030-1787961600-1788134399@www.lewisrivergolf.com
SUMMARY:Prime Rib Special: Saturday & Sunday
DESCRIPTION:Prime Rib Saturdays & Sundays at The North Fork Grill at Lewis River Golf!
URL:https://www.lewisrivergolf.com/event/prime-rib-sunday-2-2/2026-08-29/
END:VEVENT
BEGIN:VEVENT
DTSTART;TZID=UTC:20260827T180000
DTEND;TZID=UTC:20260827T200000
DTSTAMP:20260420T233856
CREATED:20240301T205821Z
LAST-MODIFIED:20250410T144609Z
UID:10001070-1787853600-1787860800@www.lewisrivergolf.com
SUMMARY:Thursday Night Live Music
DESCRIPTION:  \nFollow us on Facebook for monthly artist line up!
URL:https://www.lewisrivergolf.com/event/live-music-thursdays/2026-08-27/
LOCATION:Lewis River Golf\, 3209 Old Lewis River Road\, Woodland\, WA\, 98674\, United States
END:VEVENT
BEGIN:VEVENT
DTSTART;TZID=UTC:20260825T170000
DTEND;TZID=UTC:20260825T200000
DTSTAMP:20260420T233856
CREATED:20260310T174239Z
LAST-MODIFIED:20260310T174239Z
UID:10002266-1787677200-1787688000@www.lewisrivergolf.com
SUMMARY:Nine Wine & Dine
DESCRIPTION:Click the link below to sign up! \nhttps://signup.golf/event?e=26786&ce=2f8104
URL:https://www.lewisrivergolf.com/event/nine-wine-dine-7/
END:VEVENT
BEGIN:VEVENT
DTSTART;VALUE=DATE:20260822
DTEND;VALUE=DATE:20260824
DTSTAMP:20260420T233856
CREATED:20260120T215817Z
LAST-MODIFIED:20260204T181303Z
UID:10002029-1787356800-1787529599@www.lewisrivergolf.com
SUMMARY:Prime Rib Special: Saturday & Sunday
DESCRIPTION:Prime Rib Saturdays & Sundays at The North Fork Grill at Lewis River Golf!
URL:https://www.lewisrivergolf.com/event/prime-rib-sunday-2-2/2026-08-22/
END:VEVENT
BEGIN:VEVENT
DTSTART;TZID=UTC:20260820T180000
DTEND;TZID=UTC:20260820T200000
DTSTAMP:20260420T233856
CREATED:20240301T205821Z
LAST-MODIFIED:20250410T144609Z
UID:10001069-1787248800-1787256000@www.lewisrivergolf.com
SUMMARY:Thursday Night Live Music
DESCRIPTION:  \nFollow us on Facebook for monthly artist line up!
URL:https://www.lewisrivergolf.com/event/live-music-thursdays/2026-08-20/
LOCATION:Lewis River Golf\, 3209 Old Lewis River Road\, Woodland\, WA\, 98674\, United States
END:VEVENT
BEGIN:VEVENT
DTSTART;VALUE=DATE:20260820
DTEND;VALUE=DATE:20260821
DTSTAMP:20260420T233856
CREATED:20260420T171712Z
LAST-MODIFIED:20260420T171712Z
UID:10002281-1787184000-1787270399@www.lewisrivergolf.com
SUMMARY:WCOC Shotgun Tournament
DESCRIPTION:
URL:https://www.lewisrivergolf.com/event/wcoc-shotgun-tournament/
END:VEVENT
BEGIN:VEVENT
DTSTART;VALUE=DATE:20260815
DTEND;VALUE=DATE:20260817
DTSTAMP:20260420T233856
CREATED:20260120T215817Z
LAST-MODIFIED:20260204T181303Z
UID:10002028-1786752000-1786924799@www.lewisrivergolf.com
SUMMARY:Prime Rib Special: Saturday & Sunday
DESCRIPTION:Prime Rib Saturdays & Sundays at The North Fork Grill at Lewis River Golf!
URL:https://www.lewisrivergolf.com/event/prime-rib-sunday-2-2/2026-08-15/
END:VEVENT
BEGIN:VEVENT
DTSTART;TZID=UTC:20260813T180000
DTEND;TZID=UTC:20260813T200000
DTSTAMP:20260420T233856
CREATED:20240301T205821Z
LAST-MODIFIED:20250410T144609Z
UID:10001068-1786644000-1786651200@www.lewisrivergolf.com
SUMMARY:Thursday Night Live Music
DESCRIPTION:  \nFollow us on Facebook for monthly artist line up!
URL:https://www.lewisrivergolf.com/event/live-music-thursdays/2026-08-13/
LOCATION:Lewis River Golf\, 3209 Old Lewis River Road\, Woodland\, WA\, 98674\, United States
END:VEVENT
BEGIN:VEVENT
DTSTART;TZID=UTC:20260811T080000
DTEND;TZID=UTC:20260811T110000
DTSTAMP:20260420T233856
CREATED:20260420T171627Z
LAST-MODIFIED:20260420T171627Z
UID:10002280-1786435200-1786446000@www.lewisrivergolf.com
SUMMARY:LRG 9 Hole Invitational
DESCRIPTION:
URL:https://www.lewisrivergolf.com/event/lrg-9-hole-invitational/
END:VEVENT
BEGIN:VEVENT
DTSTART;VALUE=DATE:20260808
DTEND;VALUE=DATE:20260810
DTSTAMP:20260420T233856
CREATED:20260120T215817Z
LAST-MODIFIED:20260204T181303Z
UID:10002027-1786147200-1786319999@www.lewisrivergolf.com
SUMMARY:Prime Rib Special: Saturday & Sunday
DESCRIPTION:Prime Rib Saturdays & Sundays at The North Fork Grill at Lewis River Golf!
URL:https://www.lewisrivergolf.com/event/prime-rib-sunday-2-2/2026-08-08/
END:VEVENT
BEGIN:VEVENT
DTSTART;VALUE=DATE:20260807
DTEND;VALUE=DATE:20260808
DTSTAMP:20260420T233856
CREATED:20260420T171308Z
LAST-MODIFIED:20260420T171308Z
UID:10002279-1786060800-1786147199@www.lewisrivergolf.com
SUMMARY:Stellar J Shotgun Tournament
DESCRIPTION:
URL:https://www.lewisrivergolf.com/event/stellar-j-shotgun-tournament/
END:VEVENT
BEGIN:VEVENT
DTSTART;TZID=UTC:20260806T180000
DTEND;TZID=UTC:20260806T200000
DTSTAMP:20260420T233856
CREATED:20240301T205821Z
LAST-MODIFIED:20250410T144609Z
UID:10001067-1786039200-1786046400@www.lewisrivergolf.com
SUMMARY:Thursday Night Live Music
DESCRIPTION:  \nFollow us on Facebook for monthly artist line up!
URL:https://www.lewisrivergolf.com/event/live-music-thursdays/2026-08-06/
LOCATION:Lewis River Golf\, 3209 Old Lewis River Road\, Woodland\, WA\, 98674\, United States
END:VEVENT
BEGIN:VEVENT
DTSTART;VALUE=DATE:20260801
DTEND;VALUE=DATE:20260803
DTSTAMP:20260420T233856
CREATED:20260120T215817Z
LAST-MODIFIED:20260204T181303Z
UID:10002026-1785542400-1785715199@www.lewisrivergolf.com
SUMMARY:Prime Rib Special: Saturday & Sunday
DESCRIPTION:Prime Rib Saturdays & Sundays at The North Fork Grill at Lewis River Golf!
URL:https://www.lewisrivergolf.com/event/prime-rib-sunday-2-2/2026-08-01/
END:VEVENT
BEGIN:VEVENT
DTSTART;TZID=UTC:20260730T180000
DTEND;TZID=UTC:20260730T200000
DTSTAMP:20260420T233856
CREATED:20240301T205821Z
LAST-MODIFIED:20250410T144609Z
UID:10001066-1785434400-1785441600@www.lewisrivergolf.com
SUMMARY:Thursday Night Live Music
DESCRIPTION:  \nFollow us on Facebook for monthly artist line up!
URL:https://www.lewisrivergolf.com/event/live-music-thursdays/2026-07-30/
LOCATION:Lewis River Golf\, 3209 Old Lewis River Road\, Woodland\, WA\, 98674\, United States
END:VEVENT
BEGIN:VEVENT
DTSTART;VALUE=DATE:20260725
DTEND;VALUE=DATE:20260727
DTSTAMP:20260420T233856
CREATED:20260120T215817Z
LAST-MODIFIED:20260204T181303Z
UID:10002025-1784937600-1785110399@www.lewisrivergolf.com
SUMMARY:Prime Rib Special: Saturday & Sunday
DESCRIPTION:Prime Rib Saturdays & Sundays at The North Fork Grill at Lewis River Golf!
URL:https://www.lewisrivergolf.com/event/prime-rib-sunday-2-2/2026-07-25/
END:VEVENT
BEGIN:VEVENT
DTSTART;VALUE=DATE:20260724
DTEND;VALUE=DATE:20260725
DTSTAMP:20260420T233856
CREATED:20260420T171231Z
LAST-MODIFIED:20260420T171231Z
UID:10002278-1784851200-1784937599@www.lewisrivergolf.com
SUMMARY:Logan Kallwick Shotgun Tournament
DESCRIPTION:
URL:https://www.lewisrivergolf.com/event/logan-kallwick-shotgun-tournament/
END:VEVENT
BEGIN:VEVENT
DTSTART;TZID=UTC:20260723T180000
DTEND;TZID=UTC:20260723T200000
DTSTAMP:20260420T233856
CREATED:20240301T205821Z
LAST-MODIFIED:20250410T144609Z
UID:10001065-1784829600-1784836800@www.lewisrivergolf.com
SUMMARY:Thursday Night Live Music
DESCRIPTION:  \nFollow us on Facebook for monthly artist line up!
URL:https://www.lewisrivergolf.com/event/live-music-thursdays/2026-07-23/
LOCATION:Lewis River Golf\, 3209 Old Lewis River Road\, Woodland\, WA\, 98674\, United States
END:VEVENT
END:VCALENDAR