BEGIN:VCALENDAR
VERSION:2.0
PRODID:-//Lewis River Golf Course - ECPv6.15.18//NONSGML v1.0//EN
CALSCALE:GREGORIAN
METHOD:PUBLISH
X-WR-CALNAME:Lewis River Golf Course
X-ORIGINAL-URL:https://www.lewisrivergolf.com
X-WR-CALDESC:Events for Lewis River Golf Course
REFRESH-INTERVAL;VALUE=DURATION:PT1H
X-Robots-Tag:noindex
X-PUBLISHED-TTL:PT1H
BEGIN:VTIMEZONE
TZID:UTC
BEGIN:STANDARD
TZOFFSETFROM:+0000
TZOFFSETTO:+0000
TZNAME:UTC
DTSTART:20250101T000000
END:STANDARD
END:VTIMEZONE
BEGIN:VEVENT
DTSTART;VALUE=DATE:20260418
DTEND;VALUE=DATE:20260420
DTSTAMP:20260420T210109
CREATED:20260120T215817Z
LAST-MODIFIED:20260204T181303Z
UID:10002011-1776470400-1776643199@www.lewisrivergolf.com
SUMMARY:Prime Rib Special: Saturday & Sunday
DESCRIPTION:Prime Rib Saturdays & Sundays at The North Fork Grill at Lewis River Golf!
URL:https://www.lewisrivergolf.com/event/prime-rib-sunday-2-2/2026-04-18/
END:VEVENT
BEGIN:VEVENT
DTSTART;VALUE=DATE:20260421
DTEND;VALUE=DATE:20260422
DTSTAMP:20260420T210109
CREATED:20260420T170532Z
LAST-MODIFIED:20260420T170532Z
UID:10002269-1776729600-1776815999@www.lewisrivergolf.com
SUMMARY:Lifeline Screening
DESCRIPTION:
URL:https://www.lewisrivergolf.com/event/lifeline-screening/
END:VEVENT
BEGIN:VEVENT
DTSTART;TZID=UTC:20260423T180000
DTEND;TZID=UTC:20260423T200000
DTSTAMP:20260420T210109
CREATED:20240301T205821Z
LAST-MODIFIED:20250410T144609Z
UID:10001052-1776967200-1776974400@www.lewisrivergolf.com
SUMMARY:Thursday Night Live Music
DESCRIPTION:  \nFollow us on Facebook for monthly artist line up!
URL:https://www.lewisrivergolf.com/event/live-music-thursdays/2026-04-23/
LOCATION:Lewis River Golf\, 3209 Old Lewis River Road\, Woodland\, WA\, 98674\, United States
END:VEVENT
BEGIN:VEVENT
DTSTART;VALUE=DATE:20260425
DTEND;VALUE=DATE:20260427
DTSTAMP:20260420T210109
CREATED:20260120T215817Z
LAST-MODIFIED:20260204T181303Z
UID:10002012-1777075200-1777247999@www.lewisrivergolf.com
SUMMARY:Prime Rib Special: Saturday & Sunday
DESCRIPTION:Prime Rib Saturdays & Sundays at The North Fork Grill at Lewis River Golf!
URL:https://www.lewisrivergolf.com/event/prime-rib-sunday-2-2/2026-04-25/
END:VEVENT
BEGIN:VEVENT
DTSTART;TZID=UTC:20260428T170000
DTEND;TZID=UTC:20260428T200000
DTSTAMP:20260420T210109
CREATED:20260310T173608Z
LAST-MODIFIED:20260310T173608Z
UID:10002262-1777395600-1777406400@www.lewisrivergolf.com
SUMMARY:Nine Wine & Dine
DESCRIPTION:Click the link below to sign up! \nhttps://signup.golf/event?e=26771&ce=ba4254
URL:https://www.lewisrivergolf.com/event/nine-wine-dine-3/
END:VEVENT
BEGIN:VEVENT
DTSTART;TZID=UTC:20260430T180000
DTEND;TZID=UTC:20260430T200000
DTSTAMP:20260420T210109
CREATED:20240301T205821Z
LAST-MODIFIED:20250410T144609Z
UID:10001053-1777572000-1777579200@www.lewisrivergolf.com
SUMMARY:Thursday Night Live Music
DESCRIPTION:  \nFollow us on Facebook for monthly artist line up!
URL:https://www.lewisrivergolf.com/event/live-music-thursdays/2026-04-30/
LOCATION:Lewis River Golf\, 3209 Old Lewis River Road\, Woodland\, WA\, 98674\, United States
END:VEVENT
BEGIN:VEVENT
DTSTART;VALUE=DATE:20260502
DTEND;VALUE=DATE:20260504
DTSTAMP:20260420T210109
CREATED:20260120T215817Z
LAST-MODIFIED:20260204T181303Z
UID:10002013-1777680000-1777852799@www.lewisrivergolf.com
SUMMARY:Prime Rib Special: Saturday & Sunday
DESCRIPTION:Prime Rib Saturdays & Sundays at The North Fork Grill at Lewis River Golf!
URL:https://www.lewisrivergolf.com/event/prime-rib-sunday-2-2/2026-05-02/
END:VEVENT
BEGIN:VEVENT
DTSTART;VALUE=DATE:20260504
DTEND;VALUE=DATE:20260505
DTSTAMP:20260420T210109
CREATED:20260420T170647Z
LAST-MODIFIED:20260420T172353Z
UID:10002270-1777852800-1777939199@www.lewisrivergolf.com
SUMMARY:Woodland Rotary Shotgun Tournament
DESCRIPTION:For more information click the link below! \nhttps://www.facebook.com/share/1Gng9eK77u/
URL:https://www.lewisrivergolf.com/event/woodland-rotary-shotgun-tournament/
END:VEVENT
BEGIN:VEVENT
DTSTART;TZID=UTC:20260507T180000
DTEND;TZID=UTC:20260507T200000
DTSTAMP:20260420T210109
CREATED:20240301T205821Z
LAST-MODIFIED:20250410T144609Z
UID:10001054-1778176800-1778184000@www.lewisrivergolf.com
SUMMARY:Thursday Night Live Music
DESCRIPTION:  \nFollow us on Facebook for monthly artist line up!
URL:https://www.lewisrivergolf.com/event/live-music-thursdays/2026-05-07/
LOCATION:Lewis River Golf\, 3209 Old Lewis River Road\, Woodland\, WA\, 98674\, United States
END:VEVENT
BEGIN:VEVENT
DTSTART;VALUE=DATE:20260509
DTEND;VALUE=DATE:20260511
DTSTAMP:20260420T210109
CREATED:20260120T215817Z
LAST-MODIFIED:20260204T181303Z
UID:10002014-1778284800-1778457599@www.lewisrivergolf.com
SUMMARY:Prime Rib Special: Saturday & Sunday
DESCRIPTION:Prime Rib Saturdays & Sundays at The North Fork Grill at Lewis River Golf!
URL:https://www.lewisrivergolf.com/event/prime-rib-sunday-2-2/2026-05-09/
END:VEVENT
BEGIN:VEVENT
DTSTART;VALUE=DATE:20260510
DTEND;VALUE=DATE:20260511
DTSTAMP:20260420T210109
CREATED:20260420T170722Z
LAST-MODIFIED:20260420T170722Z
UID:10002271-1778371200-1778457599@www.lewisrivergolf.com
SUMMARY:Mothers Day @ LRG
DESCRIPTION:
URL:https://www.lewisrivergolf.com/event/mothers-day-lrg/
END:VEVENT
BEGIN:VEVENT
DTSTART;TZID=UTC:20260514T180000
DTEND;TZID=UTC:20260514T200000
DTSTAMP:20260420T210109
CREATED:20240301T205821Z
LAST-MODIFIED:20250410T144609Z
UID:10001055-1778781600-1778788800@www.lewisrivergolf.com
SUMMARY:Thursday Night Live Music
DESCRIPTION:  \nFollow us on Facebook for monthly artist line up!
URL:https://www.lewisrivergolf.com/event/live-music-thursdays/2026-05-14/
LOCATION:Lewis River Golf\, 3209 Old Lewis River Road\, Woodland\, WA\, 98674\, United States
END:VEVENT
BEGIN:VEVENT
DTSTART;VALUE=DATE:20260516
DTEND;VALUE=DATE:20260518
DTSTAMP:20260420T210109
CREATED:20260120T215817Z
LAST-MODIFIED:20260204T181303Z
UID:10002015-1778889600-1779062399@www.lewisrivergolf.com
SUMMARY:Prime Rib Special: Saturday & Sunday
DESCRIPTION:Prime Rib Saturdays & Sundays at The North Fork Grill at Lewis River Golf!
URL:https://www.lewisrivergolf.com/event/prime-rib-sunday-2-2/2026-05-16/
END:VEVENT
BEGIN:VEVENT
DTSTART;TZID=UTC:20260519T170000
DTEND;TZID=UTC:20260519T200000
DTSTAMP:20260420T210109
CREATED:20260310T173828Z
LAST-MODIFIED:20260310T173828Z
UID:10002263-1779210000-1779220800@www.lewisrivergolf.com
SUMMARY:Nine Wine & Dine
DESCRIPTION:Click the link below to sign up! \nhttps://signup.golf/event?e=26772&ce=673c7d
URL:https://www.lewisrivergolf.com/event/nine-wine-dine-4/
END:VEVENT
BEGIN:VEVENT
DTSTART;TZID=UTC:20260521T180000
DTEND;TZID=UTC:20260521T200000
DTSTAMP:20260420T210109
CREATED:20240301T205821Z
LAST-MODIFIED:20250410T144609Z
UID:10001056-1779386400-1779393600@www.lewisrivergolf.com
SUMMARY:Thursday Night Live Music
DESCRIPTION:  \nFollow us on Facebook for monthly artist line up!
URL:https://www.lewisrivergolf.com/event/live-music-thursdays/2026-05-21/
LOCATION:Lewis River Golf\, 3209 Old Lewis River Road\, Woodland\, WA\, 98674\, United States
END:VEVENT
BEGIN:VEVENT
DTSTART;VALUE=DATE:20260523
DTEND;VALUE=DATE:20260525
DTSTAMP:20260420T210109
CREATED:20260120T215817Z
LAST-MODIFIED:20260204T181303Z
UID:10002016-1779494400-1779667199@www.lewisrivergolf.com
SUMMARY:Prime Rib Special: Saturday & Sunday
DESCRIPTION:Prime Rib Saturdays & Sundays at The North Fork Grill at Lewis River Golf!
URL:https://www.lewisrivergolf.com/event/prime-rib-sunday-2-2/2026-05-23/
END:VEVENT
BEGIN:VEVENT
DTSTART;TZID=UTC:20260528T180000
DTEND;TZID=UTC:20260528T200000
DTSTAMP:20260420T210109
CREATED:20240301T205821Z
LAST-MODIFIED:20250410T144609Z
UID:10001057-1779991200-1779998400@www.lewisrivergolf.com
SUMMARY:Thursday Night Live Music
DESCRIPTION:  \nFollow us on Facebook for monthly artist line up!
URL:https://www.lewisrivergolf.com/event/live-music-thursdays/2026-05-28/
LOCATION:Lewis River Golf\, 3209 Old Lewis River Road\, Woodland\, WA\, 98674\, United States
END:VEVENT
BEGIN:VEVENT
DTSTART;VALUE=DATE:20260530
DTEND;VALUE=DATE:20260601
DTSTAMP:20260420T210109
CREATED:20260120T215817Z
LAST-MODIFIED:20260204T181303Z
UID:10002017-1780099200-1780271999@www.lewisrivergolf.com
SUMMARY:Prime Rib Special: Saturday & Sunday
DESCRIPTION:Prime Rib Saturdays & Sundays at The North Fork Grill at Lewis River Golf!
URL:https://www.lewisrivergolf.com/event/prime-rib-sunday-2-2/2026-05-30/
END:VEVENT
BEGIN:VEVENT
DTSTART;TZID=UTC:20260604T180000
DTEND;TZID=UTC:20260604T200000
DTSTAMP:20260420T210109
CREATED:20240301T205821Z
LAST-MODIFIED:20250410T144609Z
UID:10001058-1780596000-1780603200@www.lewisrivergolf.com
SUMMARY:Thursday Night Live Music
DESCRIPTION:  \nFollow us on Facebook for monthly artist line up!
URL:https://www.lewisrivergolf.com/event/live-music-thursdays/2026-06-04/
LOCATION:Lewis River Golf\, 3209 Old Lewis River Road\, Woodland\, WA\, 98674\, United States
END:VEVENT
BEGIN:VEVENT
DTSTART;VALUE=DATE:20260605
DTEND;VALUE=DATE:20260606
DTSTAMP:20260420T210109
CREATED:20260420T170810Z
LAST-MODIFIED:20260420T170810Z
UID:10002272-1780617600-1780703999@www.lewisrivergolf.com
SUMMARY:Diamond Dawgs Shotgun Tournament
DESCRIPTION:
URL:https://www.lewisrivergolf.com/event/diamond-dawgs-shotgun-tournament/
END:VEVENT
BEGIN:VEVENT
DTSTART;VALUE=DATE:20260606
DTEND;VALUE=DATE:20260608
DTSTAMP:20260420T210109
CREATED:20260120T215817Z
LAST-MODIFIED:20260204T181303Z
UID:10002018-1780704000-1780876799@www.lewisrivergolf.com
SUMMARY:Prime Rib Special: Saturday & Sunday
DESCRIPTION:Prime Rib Saturdays & Sundays at The North Fork Grill at Lewis River Golf!
URL:https://www.lewisrivergolf.com/event/prime-rib-sunday-2-2/2026-06-06/
END:VEVENT
BEGIN:VEVENT
DTSTART;VALUE=DATE:20260608
DTEND;VALUE=DATE:20260609
DTSTAMP:20260420T210109
CREATED:20260420T170900Z
LAST-MODIFIED:20260420T170900Z
UID:10002273-1780876800-1780963199@www.lewisrivergolf.com
SUMMARY:Jeffery Walker Shotgun Tournament
DESCRIPTION:
URL:https://www.lewisrivergolf.com/event/jeffery-walker-shotgun-tournament/
END:VEVENT
BEGIN:VEVENT
DTSTART;VALUE=DATE:20260611
DTEND;VALUE=DATE:20260612
DTSTAMP:20260420T210109
CREATED:20260420T170932Z
LAST-MODIFIED:20260420T172655Z
UID:10002274-1781136000-1781222399@www.lewisrivergolf.com
SUMMARY:Clark Younglife Shotgun Tournament
DESCRIPTION:For more information\, click the link below! \nhttps://wa20.younglifeauctions.com/golfclassic2026/homepages/show
URL:https://www.lewisrivergolf.com/event/clark-younglife-shotgun-tournament/
END:VEVENT
BEGIN:VEVENT
DTSTART;TZID=UTC:20260611T180000
DTEND;TZID=UTC:20260611T200000
DTSTAMP:20260420T210109
CREATED:20240301T205821Z
LAST-MODIFIED:20250410T144609Z
UID:10001059-1781200800-1781208000@www.lewisrivergolf.com
SUMMARY:Thursday Night Live Music
DESCRIPTION:  \nFollow us on Facebook for monthly artist line up!
URL:https://www.lewisrivergolf.com/event/live-music-thursdays/2026-06-11/
LOCATION:Lewis River Golf\, 3209 Old Lewis River Road\, Woodland\, WA\, 98674\, United States
END:VEVENT
BEGIN:VEVENT
DTSTART;VALUE=DATE:20260613
DTEND;VALUE=DATE:20260615
DTSTAMP:20260420T210109
CREATED:20260120T215817Z
LAST-MODIFIED:20260204T181303Z
UID:10002019-1781308800-1781481599@www.lewisrivergolf.com
SUMMARY:Prime Rib Special: Saturday & Sunday
DESCRIPTION:Prime Rib Saturdays & Sundays at The North Fork Grill at Lewis River Golf!
URL:https://www.lewisrivergolf.com/event/prime-rib-sunday-2-2/2026-06-13/
END:VEVENT
BEGIN:VEVENT
DTSTART;VALUE=DATE:20260615
DTEND;VALUE=DATE:20260616
DTSTAMP:20260420T210109
CREATED:20260420T171006Z
LAST-MODIFIED:20260420T171006Z
UID:10002275-1781481600-1781567999@www.lewisrivergolf.com
SUMMARY:BGSD Shotgun Tournament
DESCRIPTION:
URL:https://www.lewisrivergolf.com/event/bgsd-shotgun-tournament/
END:VEVENT
BEGIN:VEVENT
DTSTART;TZID=UTC:20260618T180000
DTEND;TZID=UTC:20260618T200000
DTSTAMP:20260420T210109
CREATED:20240301T205821Z
LAST-MODIFIED:20250410T144609Z
UID:10001060-1781805600-1781812800@www.lewisrivergolf.com
SUMMARY:Thursday Night Live Music
DESCRIPTION:  \nFollow us on Facebook for monthly artist line up!
URL:https://www.lewisrivergolf.com/event/live-music-thursdays/2026-06-18/
LOCATION:Lewis River Golf\, 3209 Old Lewis River Road\, Woodland\, WA\, 98674\, United States
END:VEVENT
BEGIN:VEVENT
DTSTART;VALUE=DATE:20260620
DTEND;VALUE=DATE:20260622
DTSTAMP:20260420T210109
CREATED:20260120T215817Z
LAST-MODIFIED:20260204T181303Z
UID:10002020-1781913600-1782086399@www.lewisrivergolf.com
SUMMARY:Prime Rib Special: Saturday & Sunday
DESCRIPTION:Prime Rib Saturdays & Sundays at The North Fork Grill at Lewis River Golf!
URL:https://www.lewisrivergolf.com/event/prime-rib-sunday-2-2/2026-06-20/
END:VEVENT
BEGIN:VEVENT
DTSTART;TZID=UTC:20260623T173000
DTEND;TZID=UTC:20260623T200000
DTSTAMP:20260420T210109
CREATED:20260310T173942Z
LAST-MODIFIED:20260310T174021Z
UID:10002264-1782235800-1782244800@www.lewisrivergolf.com
SUMMARY:Nine Wine & Dine
DESCRIPTION:Click the link below to sign up! \nhttps://signup.golf/event?e=26773&ce=b47b40
URL:https://www.lewisrivergolf.com/event/nine-wine-dine-5/
END:VEVENT
BEGIN:VEVENT
DTSTART;VALUE=DATE:20260625
DTEND;VALUE=DATE:20260626
DTSTAMP:20260420T210109
CREATED:20260420T171050Z
LAST-MODIFIED:20260420T171050Z
UID:10002276-1782345600-1782431999@www.lewisrivergolf.com
SUMMARY:Maritime Shotgun Tournament
DESCRIPTION:
URL:https://www.lewisrivergolf.com/event/maritime-shotgun-tournament/
END:VEVENT
END:VCALENDAR